BEGIN:VCALENDAR
VERSION:2.0
PRODID:-//Katholischer Kindergarten Pusteblume - ECPv6.15.20//NONSGML v1.0//EN
CALSCALE:GREGORIAN
METHOD:PUBLISH
X-ORIGINAL-URL:https://kita-dromersheim.de
X-WR-CALDESC:Veranstaltungen für Katholischer Kindergarten Pusteblume
REFRESH-INTERVAL;VALUE=DURATION:PT1H
X-Robots-Tag:noindex
X-PUBLISHED-TTL:PT1H
BEGIN:VTIMEZONE
TZID:Europe/Berlin
BEGIN:DAYLIGHT
TZOFFSETFROM:+0100
TZOFFSETTO:+0200
TZNAME:CEST
DTSTART:20250330T010000
END:DAYLIGHT
BEGIN:STANDARD
TZOFFSETFROM:+0200
TZOFFSETTO:+0100
TZNAME:CET
DTSTART:20251026T010000
END:STANDARD
BEGIN:DAYLIGHT
TZOFFSETFROM:+0100
TZOFFSETTO:+0200
TZNAME:CEST
DTSTART:20260329T010000
END:DAYLIGHT
BEGIN:STANDARD
TZOFFSETFROM:+0200
TZOFFSETTO:+0100
TZNAME:CET
DTSTART:20261025T010000
END:STANDARD
BEGIN:DAYLIGHT
TZOFFSETFROM:+0100
TZOFFSETTO:+0200
TZNAME:CEST
DTSTART:20270328T010000
END:DAYLIGHT
BEGIN:STANDARD
TZOFFSETFROM:+0200
TZOFFSETTO:+0100
TZNAME:CET
DTSTART:20271031T010000
END:STANDARD
BEGIN:DAYLIGHT
TZOFFSETFROM:+0100
TZOFFSETTO:+0200
TZNAME:CEST
DTSTART:20280326T010000
END:DAYLIGHT
BEGIN:STANDARD
TZOFFSETFROM:+0200
TZOFFSETTO:+0100
TZNAME:CET
DTSTART:20281029T010000
END:STANDARD
END:VTIMEZONE
BEGIN:VEVENT
DTSTART;TZID=Europe/Berlin:20260720T080000
DTEND;TZID=Europe/Berlin:20260807T170000
DTSTAMP:20260424T172127
CREATED:20240711T062146Z
LAST-MODIFIED:20251010T054545Z
UID:6388-1784534400-1786122000@kita-dromersheim.de
SUMMARY:Sommerferien
DESCRIPTION:
URL:https://kita-dromersheim.de/termin/sommerferien-3/
END:VEVENT
BEGIN:VEVENT
DTSTART;TZID=Europe/Berlin:20260807T080000
DTEND;TZID=Europe/Berlin:20260807T170000
DTSTAMP:20260424T172127
CREATED:20250708T085936Z
LAST-MODIFIED:20250708T085936Z
UID:7561-1786089600-1786122000@kita-dromersheim.de
SUMMARY:Kita geschlossen
DESCRIPTION:Sommerferien vom 20.Juli bis zum 07.08.2026.
URL:https://kita-dromersheim.de/termin/kita-geschlossen-10/
END:VEVENT
BEGIN:VEVENT
DTSTART;TZID=Europe/Berlin:20261006T080000
DTEND;TZID=Europe/Berlin:20261007T170000
DTSTAMP:20260424T172127
CREATED:20250818T083444Z
LAST-MODIFIED:20250818T083444Z
UID:7613-1791273600-1791392400@kita-dromersheim.de
SUMMARY:Kita geschlossen
DESCRIPTION:Erste Hilfe Kurs für Mitarbeiter:innen
URL:https://kita-dromersheim.de/termin/kita-geschlossen-14/
END:VEVENT
BEGIN:VEVENT
DTSTART;TZID=Europe/Berlin:20261118T080000
DTEND;TZID=Europe/Berlin:20261119T170000
DTSTAMP:20260424T172127
CREATED:20250708T090706Z
LAST-MODIFIED:20250708T090706Z
UID:7569-1794988800-1795107600@kita-dromersheim.de
SUMMARY:Kita geschlossen
DESCRIPTION:
URL:https://kita-dromersheim.de/termin/kita-geschlossen-12/
END:VEVENT
BEGIN:VEVENT
DTSTART;TZID=Europe/Berlin:20261223T080000
DTEND;TZID=Europe/Berlin:20261223T120000
DTSTAMP:20260424T172127
CREATED:20250708T090417Z
LAST-MODIFIED:20250708T090417Z
UID:7567-1798012800-1798027200@kita-dromersheim.de
SUMMARY:Kita schließt um 12.00 Uhr.
DESCRIPTION:
URL:https://kita-dromersheim.de/termin/kita-schliesst-um-12-00-uhr/
END:VEVENT
BEGIN:VEVENT
DTSTART;TZID=Europe/Berlin:20270104T080000
DTEND;TZID=Europe/Berlin:20270105T170000
DTSTAMP:20260424T172127
CREATED:20250708T090116Z
LAST-MODIFIED:20250708T090331Z
UID:7563-1799049600-1799168400@kita-dromersheim.de
SUMMARY:Kita geschlossen
DESCRIPTION:Weihnachtsferien 28.12.2026 bis zum 04.01.2027
URL:https://kita-dromersheim.de/termin/kita-geschlossen-11/
END:VEVENT
END:VCALENDAR